{
 "currentVersion": 10.81,
 "serviceDescription": "Coastal minimum floor levels - hight above ground. Calculated from a finished floor level of 3.05 - 3.17m NZVD2016 (depending on conversion between NZVD2016 and mean sea level) minus ground level.Both finished floor levels and height above ground calculated using the ORCs June 2021 LiDAR.\n\nhz_minimum_floor_level_2021_aboveground",
 "name": "Public/Coastal_minimum_floor_level_aboveground",
 "description": "Coastal minimum floor levels - hight above ground. Calculated from a finished floor level of 3.05 - 3.17m NZVD2016 (depending on conversion between NZVD2016 and mean sea level) minus ground level.Both finished floor levels and height above ground calculated using the ORCs June 2021 LiDAR.\n\nhz_minimum_floor_level_2021_aboveground",
 "extent": {
  "xmin": 1379482.7347124908,
  "ymin": 4896366,
  "xmax": 1425423.7347124908,
  "ymax": 4953563,
  "spatialReference": {
   "wkid": 2193,
   "latestWkid": 2193
  }
 },
 "initialExtent": {
  "xmin": 1379482.7347124908,
  "ymin": 4896366,
  "xmax": 1425423.7347124908,
  "ymax": 4953563,
  "spatialReference": {
   "wkid": 2193,
   "latestWkid": 2193
  }
 },
 "fullExtent": {
  "xmin": 1379482.7347124908,
  "ymin": 4896366,
  "xmax": 1425423.7347124908,
  "ymax": 4953563,
  "spatialReference": {
   "wkid": 2193,
   "latestWkid": 2193
  }
 },
 "pixelSizeX": 1,
 "pixelSizeY": 1,
 "bandCount": 1,
 "pixelType": "F32",
 "minPixelSize": 0,
 "maxPixelSize": 0,
 "copyrightText": "",
 "serviceDataType": "esriImageServiceDataTypeGeneric",
 "minValues": [
  4.7683716530855236E-8
 ],
 "maxValues": [
  7.719000339508057
 ],
 "meanValues": [
  3.1702037926363107
 ],
 "stdvValues": [
  1.2716325023789294
 ],
 "objectIdField": "",
 "fields": [],
 "capabilities": "Image,Metadata,Mensuration",
 "defaultMosaicMethod": "Center",
 "allowedMosaicMethods": "",
 "sortField": "",
 "sortValue": null,
 "sortAscending": true,
 "mosaicOperator": "First",
 "defaultCompressionQuality": 75,
 "defaultResamplingMethod": "Bilinear",
 "maxImageHeight": 4100,
 "maxImageWidth": 15000,
 "allowRasterFunction": true,
 "rasterFunctionInfos": [
  {
   "name": "None",
   "description": "",
   "help": ""
  }
 ],
 "rasterTypeInfos": [
  {
   "name": "Raster Dataset",
   "description": "Supports all ArcGIS Raster Datasets",
   "help": ""
  }
 ],
 "mensurationCapabilities": "Basic",
 "hasHistograms": true,
 "hasColormap": false,
 "hasRasterAttributeTable": false,
 "minScale": 0,
 "maxScale": 0,
 "exportTilesAllowed": false,
 "hasMultidimensions": false,
 "supportsStatistics": false,
 "supportsAdvancedQueries": false,
 "editFieldsInfo": null,
 "ownershipBasedAccessControlForRasters": null,
 "allowComputeTiePoints": false,
 "useStandardizedQueries": true,
 "advancedQueryCapabilities": {
  "useStandardizedQueries": true,
  "supportsStatistics": false,
  "supportsOrderBy": false,
  "supportsDistinct": false,
  "supportsPagination": false
 },
 "spatialReference": {
  "wkid": 2193,
  "latestWkid": 2193
 }
}
