{
 "currentVersion": 10.81,
 "serviceDescription": "LiDAR was captured for the Otago Regional Council by AAM Ltd from 25 June to 1 October 2021.\n\nPublished from data available at OpenTopography; https://portal.opentopography.org/datasetMetadata?otCollectionID=OT.072022.2193.1\n\nThe dataset was generated by AAM and their subcontractors. Data management and distribution is by Toitū Te Whenua Land Information New Zealand.",
 "name": "Public/Dunedin_DEM_2021",
 "description": "LiDAR was captured for the Otago Regional Council by AAM Ltd from 25 June to 1 October 2021.\n\nPublished from data available at OpenTopography; https://portal.opentopography.org/datasetMetadata?otCollectionID=OT.072022.2193.1\n\nThe dataset was generated by AAM and their subcontractors. Data management and distribution is by Toitū Te Whenua Land Information New Zealand.",
 "extent": {
  "xmin": 1345900,
  "ymin": 4896266,
  "xmax": 1425526,
  "ymax": 4988021,
  "spatialReference": {
   "wkid": 2193,
   "latestWkid": 2193,
   "vcsWkid": 7839,
   "latestVcsWkid": 7839
  }
 },
 "initialExtent": {
  "xmin": 1345900,
  "ymin": 4896266,
  "xmax": 1425526,
  "ymax": 4988021,
  "spatialReference": {
   "wkid": 2193,
   "latestWkid": 2193,
   "vcsWkid": 7839,
   "latestVcsWkid": 7839
  }
 },
 "fullExtent": {
  "xmin": 1345900,
  "ymin": 4896266,
  "xmax": 1425526,
  "ymax": 4988021,
  "spatialReference": {
   "wkid": 2193,
   "latestWkid": 2193,
   "vcsWkid": 7839,
   "latestVcsWkid": 7839
  }
 },
 "heightModelInfo": {
  "heightModel": "gravity_related_height",
  "vertCRS": "NZVD2016_height",
  "heightUnit": "meter"
 },
 "pixelSizeX": 1,
 "pixelSizeY": 1,
 "bandCount": 1,
 "pixelType": "F32",
 "minPixelSize": 0,
 "maxPixelSize": 0,
 "copyrightText": "Otago Regional Council, Land Information New Zealand (LINZ) (2022). Coastal Catchments, Otago, New Zealand 2021. Collected by AAM, distributed by OpenTopography and LINZ. https://doi.org/10.5069/G9Q52MT4.",
 "serviceDataType": "esriImageServiceDataTypeGeneric",
 "minValues": [
  -31.972999572753906
 ],
 "maxValues": [
  869.9719848632812
 ],
 "meanValues": [
  163.94099794869834
 ],
 "stdvValues": [
  169.41133350360113
 ],
 "objectIdField": "",
 "fields": [],
 "capabilities": "Mensuration,Image,Metadata",
 "defaultMosaicMethod": "Center",
 "allowedMosaicMethods": "",
 "sortField": "",
 "sortValue": null,
 "sortAscending": true,
 "mosaicOperator": "First",
 "defaultCompressionQuality": 75,
 "defaultResamplingMethod": "Bilinear",
 "maxImageHeight": 4100,
 "maxImageWidth": 15000,
 "allowRasterFunction": true,
 "rasterFunctionInfos": [
  {
   "name": "None",
   "description": "",
   "help": ""
  }
 ],
 "rasterTypeInfos": [
  {
   "name": "Raster Dataset",
   "description": "Supports all ArcGIS Raster Datasets",
   "help": ""
  }
 ],
 "mensurationCapabilities": "Basic",
 "hasHistograms": true,
 "hasColormap": false,
 "hasRasterAttributeTable": false,
 "minScale": 0,
 "maxScale": 0,
 "exportTilesAllowed": false,
 "hasMultidimensions": false,
 "supportsStatistics": false,
 "supportsAdvancedQueries": false,
 "editFieldsInfo": null,
 "ownershipBasedAccessControlForRasters": null,
 "allowComputeTiePoints": false,
 "useStandardizedQueries": true,
 "advancedQueryCapabilities": {
  "useStandardizedQueries": true,
  "supportsStatistics": false,
  "supportsOrderBy": false,
  "supportsDistinct": false,
  "supportsPagination": false
 },
 "spatialReference": {
  "wkid": 2193,
  "latestWkid": 2193,
  "vcsWkid": 7839,
  "latestVcsWkid": 7839
 }
}
