{ "currentVersion": 10.81, "serviceDescription": "
DTM built from September 2009 LiDAR. LiDAR has a stated accuracy of +/- 0.15m<\/SPAN><\/P><\/DIV><\/DIV>",
"name": "Public/LiDAR_Urban2009_DEM",
"description": " DTM built from September 2009 LiDAR. LiDAR has a stated accuracy of +/- 0.15m<\/SPAN><\/P><\/DIV><\/DIV>",
"extent": {
"xmin": 1396356,
"ymin": 4910112,
"xmax": 1411340,
"ymax": 4921540,
"spatialReference": {
"wkid": 2193,
"latestWkid": 2193
}
},
"initialExtent": {
"xmin": 1396356,
"ymin": 4910112,
"xmax": 1411340,
"ymax": 4921540,
"spatialReference": {
"wkid": 2193,
"latestWkid": 2193
}
},
"fullExtent": {
"xmin": 1396356,
"ymin": 4910112,
"xmax": 1411340,
"ymax": 4921540,
"spatialReference": {
"wkid": 2193,
"latestWkid": 2193
}
},
"pixelSizeX": 1,
"pixelSizeY": 1,
"bandCount": 1,
"pixelType": "F32",
"minPixelSize": 0,
"maxPixelSize": 0,
"copyrightText": "",
"serviceDataType": "esriImageServiceDataTypeGeneric",
"minValues": [
-39.00231170654297
],
"maxValues": [
407.84381103515625
],
"meanValues": [
92.69992310024526
],
"stdvValues": [
87.91516081939542
],
"objectIdField": "",
"fields": [],
"capabilities": "Image,Metadata,Mensuration",
"defaultMosaicMethod": "Center",
"allowedMosaicMethods": "",
"sortField": "",
"sortValue": null,
"sortAscending": true,
"mosaicOperator": "First",
"defaultCompressionQuality": 75,
"defaultResamplingMethod": "Bilinear",
"maxImageHeight": 4100,
"maxImageWidth": 15000,
"allowRasterFunction": true,
"rasterFunctionInfos": [
{
"name": "None",
"description": "",
"help": ""
}
],
"rasterTypeInfos": [
{
"name": "Raster Dataset",
"description": "Supports all ArcGIS Raster Datasets",
"help": ""
}
],
"mensurationCapabilities": "Basic",
"hasHistograms": true,
"hasColormap": false,
"hasRasterAttributeTable": false,
"minScale": 0,
"maxScale": 0,
"exportTilesAllowed": false,
"hasMultidimensions": false,
"supportsStatistics": false,
"supportsAdvancedQueries": false,
"editFieldsInfo": null,
"ownershipBasedAccessControlForRasters": null,
"allowComputeTiePoints": false,
"useStandardizedQueries": true,
"advancedQueryCapabilities": {
"useStandardizedQueries": true,
"supportsStatistics": false,
"supportsOrderBy": false,
"supportsDistinct": false,
"supportsPagination": false
},
"spatialReference": {
"wkid": 2193,
"latestWkid": 2193
}
}