{
 "currentVersion": 10.81,
 "serviceDescription": "This layer is representation of the permeable and impermeable surfaces within the main Dunedin Urban area and Mosgiel. An impermeable surface is a surface through which water cannot pass and that sheds water, the opposite is true for a permeable surface. The latest aerial imagery of Dunedin City was used to categorise the urban land cover into two classes: land covered by vegetation, which was considered permeable and land not covered by vegetation, which was considered impermeable. This was done using a tool in a Geographic Information System (GIS) that allows aerial photographs to be classified into different categories depending on the combination of the red, green, blue and near-infrared wavelengths that are reflected by an object. While many structures in an urban landscape will reflect different combinations of red, green, and blue light, healthy vegetation will also reflect near-infrared light which, while invisible to humans, is visible to the cameras used for aerial photography.\nAerial photography captured 2018-2019.",
 "name": "Public/Permeability",
 "description": "This layer is representation of the permeable and impermeable surfaces within the main Dunedin Urban area and Mosgiel. An impermeable surface is a surface through which water cannot pass and that sheds water, the opposite is true for a permeable surface. The latest aerial imagery of Dunedin City was used to categorise the urban land cover into two classes: land covered by vegetation, which was considered permeable and land not covered by vegetation, which was considered impermeable. This was done using a tool in a Geographic Information System (GIS) that allows aerial photographs to be classified into different categories depending on the combination of the red, green, blue and near-infrared wavelengths that are reflected by an object. While many structures in an urban landscape will reflect different combinations of red, green, and blue light, healthy vegetation will also reflect near-infrared light which, while invisible to humans, is visible to the cameras used for aerial photography.\nAerial photography captured 2018-2019.",
 "extent": {
  "xmin": 1390860.6999678682,
  "ymin": 4907002.299954843,
  "xmax": 1417173.3999678683,
  "ymax": 4926282.599954843,
  "spatialReference": {
   "wkid": 2193,
   "latestWkid": 2193
  }
 },
 "initialExtent": {
  "xmin": 1390860.6999678682,
  "ymin": 4907002.299954843,
  "xmax": 1417173.3999678683,
  "ymax": 4926282.599954843,
  "spatialReference": {
   "wkid": 2193,
   "latestWkid": 2193
  }
 },
 "fullExtent": {
  "xmin": 1390860.6999678682,
  "ymin": 4907002.299954843,
  "xmax": 1417173.3999678683,
  "ymax": 4926282.599954843,
  "spatialReference": {
   "wkid": 2193,
   "latestWkid": 2193
  }
 },
 "pixelSizeX": 0.10000000000000071,
 "pixelSizeY": 0.09999999999999903,
 "bandCount": 1,
 "pixelType": "S8",
 "minPixelSize": 0,
 "maxPixelSize": 0,
 "copyrightText": "",
 "serviceDataType": "esriImageServiceDataTypeGeneric",
 "minValues": [
  0
 ],
 "maxValues": [
  1
 ],
 "meanValues": [
  0.8427155069658802
 ],
 "stdvValues": [
  0.36406878648765306
 ],
 "objectIdField": "",
 "fields": [],
 "capabilities": "Image,Metadata,Mensuration",
 "defaultMosaicMethod": "Center",
 "allowedMosaicMethods": "",
 "sortField": "",
 "sortValue": null,
 "sortAscending": true,
 "mosaicOperator": "First",
 "defaultCompressionQuality": 75,
 "defaultResamplingMethod": "Bilinear",
 "maxImageHeight": 4100,
 "maxImageWidth": 15000,
 "allowRasterFunction": true,
 "rasterFunctionInfos": [
  {
   "name": "None",
   "description": "",
   "help": ""
  }
 ],
 "rasterTypeInfos": [
  {
   "name": "Raster Dataset",
   "description": "Supports all ArcGIS Raster Datasets",
   "help": ""
  }
 ],
 "mensurationCapabilities": "Basic",
 "hasHistograms": true,
 "hasColormap": false,
 "hasRasterAttributeTable": true,
 "minScale": 0,
 "maxScale": 0,
 "exportTilesAllowed": false,
 "hasMultidimensions": false,
 "supportsStatistics": false,
 "supportsAdvancedQueries": false,
 "editFieldsInfo": null,
 "ownershipBasedAccessControlForRasters": null,
 "allowComputeTiePoints": false,
 "useStandardizedQueries": true,
 "advancedQueryCapabilities": {
  "useStandardizedQueries": true,
  "supportsStatistics": false,
  "supportsOrderBy": false,
  "supportsDistinct": false,
  "supportsPagination": false
 },
 "spatialReference": {
  "wkid": 2193,
  "latestWkid": 2193
 }
}
