<?xml version="1.0" encoding="UTF-8" standalone="no"?>
<metadata xml:lang="en">
<Esri>
<CreaDate>20141218</CreaDate>
<CreaTime>15064800</CreaTime>
<ArcGISFormat>1.0</ArcGISFormat>
<ArcGISstyle>North American Profile of ISO19115 2003</ArcGISstyle>
<SyncOnce>FALSE</SyncOnce>
<DataProperties>
<itemProps>
<itemName Sync="TRUE">GP2A_hz_Karitane_Flood_Min_Floor_Level_clip</itemName>
<imsContentType Sync="TRUE" export="False">002</imsContentType>
<nativeExtBox>
<westBL Sync="TRUE">1416268.946900</westBL>
<eastBL Sync="TRUE">1417988.946900</eastBL>
<southBL Sync="TRUE">4942482.100400</southBL>
<northBL Sync="TRUE">4945282.100400</northBL>
<exTypeCode Sync="TRUE">1</exTypeCode>
</nativeExtBox>
</itemProps>
<coordRef>
<type Sync="TRUE">Projected</type>
<geogcsn Sync="TRUE">GCS_NZGD_2000</geogcsn>
<csUnits Sync="TRUE">Linear Unit: Meter (1.000000)</csUnits>
<projcsn Sync="TRUE">NZGD_2000_New_Zealand_Transverse_Mercator</projcsn>
<peXml Sync="TRUE">&lt;ProjectedCoordinateSystem xsi:type='typens:ProjectedCoordinateSystem' xmlns:xsi='http://www.w3.org/2001/XMLSchema-instance' xmlns:xs='http://www.w3.org/2001/XMLSchema' xmlns:typens='http://www.esri.com/schemas/ArcGIS/10.1'&gt;&lt;WKT&gt;PROJCS[&amp;quot;NZGD_2000_New_Zealand_Transverse_Mercator&amp;quot;,GEOGCS[&amp;quot;GCS_NZGD_2000&amp;quot;,DATUM[&amp;quot;D_NZGD_2000&amp;quot;,SPHEROID[&amp;quot;GRS_1980&amp;quot;,6378137.0,298.257222101]],PRIMEM[&amp;quot;Greenwich&amp;quot;,0.0],UNIT[&amp;quot;Degree&amp;quot;,0.0174532925199433]],PROJECTION[&amp;quot;Transverse_Mercator&amp;quot;],PARAMETER[&amp;quot;False_Easting&amp;quot;,1600000.0],PARAMETER[&amp;quot;False_Northing&amp;quot;,10000000.0],PARAMETER[&amp;quot;Central_Meridian&amp;quot;,173.0],PARAMETER[&amp;quot;Scale_Factor&amp;quot;,0.9996],PARAMETER[&amp;quot;Latitude_Of_Origin&amp;quot;,0.0],UNIT[&amp;quot;Meter&amp;quot;,1.0],AUTHORITY[&amp;quot;EPSG&amp;quot;,2193]]&lt;/WKT&gt;&lt;XOrigin&gt;-4020900&lt;/XOrigin&gt;&lt;YOrigin&gt;1900&lt;/YOrigin&gt;&lt;XYScale&gt;450445547.3910538&lt;/XYScale&gt;&lt;ZOrigin&gt;-100000&lt;/ZOrigin&gt;&lt;ZScale&gt;10000&lt;/ZScale&gt;&lt;MOrigin&gt;-100000&lt;/MOrigin&gt;&lt;MScale&gt;10000&lt;/MScale&gt;&lt;XYTolerance&gt;0.001&lt;/XYTolerance&gt;&lt;ZTolerance&gt;0.00020000000000000001&lt;/ZTolerance&gt;&lt;MTolerance&gt;0.00020000000000000001&lt;/MTolerance&gt;&lt;HighPrecision&gt;true&lt;/HighPrecision&gt;&lt;WKID&gt;2193&lt;/WKID&gt;&lt;LatestWKID&gt;2193&lt;/LatestWKID&gt;&lt;/ProjectedCoordinateSystem&gt;</peXml>
</coordRef>
</DataProperties>
<SyncDate>20151109</SyncDate>
<SyncTime>17412800</SyncTime>
<ModDate>20151109</ModDate>
<ModTime>17412800</ModTime>
<scaleRange>
<minScale>150000000</minScale>
<maxScale>5000</maxScale>
</scaleRange>
<ArcGISProfile>FGDC</ArcGISProfile>
</Esri>
<dataIdInfo>
<envirDesc Sync="FALSE">Esri ArcGIS 10.1.1.3143</envirDesc>
<dataLang>
<languageCode Sync="TRUE" value="eng">
</languageCode>
<countryCode Sync="TRUE" value="NZL">
</countryCode>
</dataLang>
<idCitation>
<resTitle Sync="TRUE">GP2A_hz_Karitane_Flood_Min_Floor_Level_clip</resTitle>
<presForm>
<PresFormCd Sync="TRUE" value="011">
</PresFormCd>
</presForm>
</idCitation>
<spatRpType>
<SpatRepTypCd Sync="TRUE" value="002">
</SpatRepTypCd>
</spatRpType>
<dataExt>
<geoEle>
<GeoBndBox esriExtentType="search">
<exTypeCode Sync="TRUE">1</exTypeCode>
<westBL Sync="TRUE">170.642145</westBL>
<eastBL Sync="TRUE">170.665246</eastBL>
<northBL Sync="TRUE">-45.621692</northBL>
<southBL Sync="TRUE">-45.647327</southBL>
</GeoBndBox>
</geoEle>
</dataExt>
<idPurp>Water depth (m) for synthetic flood surface plus 500mm free board in the Karitane area. This data is subject to the purpose and limitations set out in Minimum...</idPurp>
<idAbs>&lt;DIV STYLE="text-align:Left;"&gt;&lt;DIV&gt;&lt;DIV&gt;&lt;P&gt;&lt;SPAN&gt;&lt;SPAN&gt;Difference between Karitane_Level_FB and ground level (2005 Lidar, supplied by DCC). Synthetic Flood Surface based on Coastal Flood Hazard supplied by Otago Regional Council. Please see the following report for full description of method. Minimum Floor Levels for Flood Vulnerable Areas: Proposed Minimum Levels, prepared by GHD for Dunedin City Council, Nov 2014.&lt;/SPAN&gt;&lt;/SPAN&gt;&lt;/P&gt;&lt;P&gt;&lt;SPAN /&gt;&lt;/P&gt;&lt;/DIV&gt;&lt;/DIV&gt;&lt;/DIV&gt;</idAbs>
<resConst>
<Consts>
<useLimit>&lt;DIV STYLE="text-align:Left;"&gt;&lt;DIV&gt;&lt;DIV&gt;&lt;P&gt;&lt;SPAN&gt;The data herein has been prepared by GHD for Dunedin City Council (DCC) as a supplement to the report Minimum Floor Levels for Flood Vulnerable Areas: Proposed Minimum Levels, prepared by GHD for Dunedin City Council, Nov 2014and is subject to the purpose and limitations outlined in that report. GHD therefore make no statement as to it being fit for any particular purpose beyond those enumerated in the report.&lt;/SPAN&gt;&lt;/P&gt;&lt;/DIV&gt;&lt;/DIV&gt;&lt;/DIV&gt;</useLimit>
</Consts>
</resConst>
<tpCat>
<TopicCatCd value="015">
</TopicCatCd>
</tpCat>
<idCredit/>
</dataIdInfo>
<mdLang>
<languageCode Sync="TRUE" value="eng">
</languageCode>
<countryCode Sync="TRUE" value="NZL">
</countryCode>
</mdLang>
<distInfo>
<distFormat>
<formatName Sync="TRUE">File Geodatabase Raster Dataset</formatName>
</distFormat>
</distInfo>
<mdHrLv>
<ScopeCd Sync="TRUE" value="005">
</ScopeCd>
</mdHrLv>
<mdHrLvName Sync="TRUE">dataset</mdHrLvName>
<refSysInfo>
<RefSystem dimension="horizontal">
<refSysID>
<identCode Sync="TRUE" code="2193">
</identCode>
<idCodeSpace Sync="TRUE">EPSG</idCodeSpace>
<idVersion Sync="TRUE">7.11.2</idVersion>
</refSysID>
</RefSystem>
</refSysInfo>
<spdoinfo>
<rastinfo>
<rasttype Sync="TRUE">Pixel</rasttype>
<rowcount Sync="TRUE">140</rowcount>
<colcount Sync="TRUE">86</colcount>
<rastxsz Sync="TRUE">20.000000</rastxsz>
<rastysz Sync="TRUE">20.000000</rastysz>
<rastbpp Sync="TRUE">32</rastbpp>
<vrtcount Sync="TRUE">1</vrtcount>
<rastorig Sync="TRUE">Upper Left</rastorig>
<rastcmap Sync="TRUE">FALSE</rastcmap>
<rastcomp Sync="TRUE">LZ77</rastcomp>
<rastband Sync="TRUE">1</rastband>
<rastdtyp Sync="TRUE">pixel codes</rastdtyp>
<rastifor Sync="TRUE">FGDBR</rastifor>
<rastplyr Sync="TRUE">TRUE</rastplyr>
</rastinfo>
</spdoinfo>
<spref>
<horizsys>
<planar>
<planci>
<plance Sync="TRUE">row and column</plance>
<coordrep>
<absres Sync="TRUE">20.000000</absres>
<ordres Sync="TRUE">20.000000</ordres>
</coordrep>
</planci>
</planar>
</horizsys>
</spref>
<mdDateSt Sync="TRUE">20151109</mdDateSt>
<mdContact>
<rpIndName>Matt van der Peet</rpIndName>
<rpOrgName>GHD Ltd</rpOrgName>
<rpPosName>Senior Envinronmental Engineer</rpPosName>
<role>
<RoleCd value="012">
</RoleCd>
</role>
</mdContact>
<mdConst>
<LegConsts>
<useLimit>The data herein has been prepared by GHD for Dunedin City Council (DCC) as a supplement to the report Minimum Floor Levels for Flood Vulnerable Areas: Proposed Minimum Levels, prepared by GHD for Dunedin City Council, Nov 2014and is subject to the purpose and limitations outlined in that report. GHD therefore make no statement as to it being fit for any particular purpose beyond those enumerated in the report.</useLimit>
</LegConsts>
</mdConst>
<dqInfo>
<dataLineage>
<statement>File derived from data provided by Otago Regional Council [N:Waikouaiti_floodHazard_ORC.shp] 
according to the methodology outlined in Minimum Floor Levels for Flood Vulnerable Areas: Proposed Minimum Levels, prepared by GHD, Nov 2014.
CreateTin GuessFloodplaneheight_1_00mFlat_TIN 
PROJCS['NZGD_2000_New_Zealand_Transverse_Mercator',GEOGCS['GCS_NZGD_2000',DATUM['D_NZGD_2000',SPHEROID['GRS_1980',6378137.0,298.257222101]],PRIMEM['Greenwich',0.0],UNIT['Degree',0.0174532925199433]],PROJECTION['Transverse_Mercator'],PARAMETER['False_Easting',1600000.0],PARAMETER['False_Northing',10000000.0],PARAMETER['Central_Meridian',173.0],PARAMETER['Scale_Factor',0.9996],PARAMETER['Latitude_Of_Origin',0.0],UNIT['Meter',1.0]] "WaikoaitiWaitati_BreakLines WL_v4 Soft_Line &lt;None&gt;" DELAUNAYTinRaster TinRaster GuessFloodplaneheight_2_00mFlat_TIN 
GuessFloodplaneheight_2_00mFlat_Grid 
FLOAT LINEAR "CELLSIZE 20" 1
Minus Urban_DEM GuessFloodplaneheight_2_00mFlat_Grid FlooddepthsWaikaouitit
Times 
FlooddepthsWaikaouitit -1 FlooddepthsKaritaniePostiveDepths
Plus 
FlooddepthsKaritaniePostiveDepths 0.5 FlooddepthsKaritaniePostiveDepths_withFB
Reclassify 
FlooddepthsKaritaniePostiveDepths Value "-21.553321207270905 0 NODATA;0 10 1" FlooddepthsKaritaniePostiveDepths_Reclass_withFB 
DATA
Times FlooddepthsKaritaniePostiveDepths_Reclass_withFB FlooddepthsKaritaniePostiveDepths FlooddepthsKaritaniePostiveDepths_withFB_cliped
CopyRaster 
FlooddepthsKaritaniePostiveDepths_withFB_cliped 
Karitane_Depths_FB 
# # -3.402823e+038 NONE NONE # NONE NONE</statement>
</dataLineage>
</dqInfo>
<refSysInfo>
<RefSystem dimension="vertical">
<refSysID>
<identCode code="5761">
</identCode>
<idCodeSpace>EPSG</idCodeSpace>
</refSysID>
</RefSystem>
</refSysInfo>
</metadata>
