{ "currentVersion": 10.81, "serviceDescription": "
Difference between Karitane_Level_FB and ground level (2005 Lidar, supplied by DCC). Synthetic Flood Surface based on Coastal Flood Hazard supplied by Otago Regional Council. Please see the following report for full description of method. Minimum Floor Levels for Flood Vulnerable Areas: Proposed Minimum Levels, prepared by GHD for Dunedin City Council, Nov 2014.<\/SPAN><\/SPAN><\/P> <\/P><\/DIV><\/DIV><\/DIV>",
"name": "Public/SecondGenerationPlan_Karitane_Flood_Min_Floor_Level",
"description": " Difference between Karitane_Level_FB and ground level (2005 Lidar, supplied by DCC). Synthetic Flood Surface based on Coastal Flood Hazard supplied by Otago Regional Council. Please see the following report for full description of method. Minimum Floor Levels for Flood Vulnerable Areas: Proposed Minimum Levels, prepared by GHD for Dunedin City Council, Nov 2014.<\/SPAN><\/SPAN><\/P> <\/P><\/DIV><\/DIV><\/DIV>",
"extent": {
"xmin": 1416268.9468999999,
"ymin": 4942482.1004,
"xmax": 1417988.9468999999,
"ymax": 4945282.1004,
"spatialReference": {
"wkid": 2193,
"latestWkid": 2193
}
},
"initialExtent": {
"xmin": 1416268.9468999999,
"ymin": 4942482.1004,
"xmax": 1417988.9468999999,
"ymax": 4945282.1004,
"spatialReference": {
"wkid": 2193,
"latestWkid": 2193
}
},
"fullExtent": {
"xmin": 1416268.9468999999,
"ymin": 4942482.1004,
"xmax": 1417988.9468999999,
"ymax": 4945282.1004,
"spatialReference": {
"wkid": 2193,
"latestWkid": 2193
}
},
"pixelSizeX": 20,
"pixelSizeY": 20,
"bandCount": 1,
"pixelType": "F32",
"minPixelSize": 0,
"maxPixelSize": 0,
"copyrightText": "",
"serviceDataType": "esriImageServiceDataTypeGeneric",
"minValues": [
0.10000000149011612
],
"maxValues": [
2.5
],
"meanValues": [
1.5517241296110666
],
"stdvValues": [
0.5527349802794328
],
"objectIdField": "",
"fields": [],
"capabilities": "Image,Metadata,Mensuration",
"defaultMosaicMethod": "Center",
"allowedMosaicMethods": "",
"sortField": "",
"sortValue": null,
"sortAscending": true,
"mosaicOperator": "First",
"defaultCompressionQuality": 75,
"defaultResamplingMethod": "Bilinear",
"maxImageHeight": 4100,
"maxImageWidth": 15000,
"allowRasterFunction": true,
"rasterFunctionInfos": [
{
"name": "None",
"description": "",
"help": ""
}
],
"rasterTypeInfos": [
{
"name": "Raster Dataset",
"description": "Supports all ArcGIS Raster Datasets",
"help": ""
}
],
"mensurationCapabilities": "Basic",
"hasHistograms": true,
"hasColormap": false,
"hasRasterAttributeTable": false,
"minScale": 0,
"maxScale": 0,
"exportTilesAllowed": false,
"hasMultidimensions": false,
"supportsStatistics": false,
"supportsAdvancedQueries": false,
"editFieldsInfo": null,
"ownershipBasedAccessControlForRasters": null,
"allowComputeTiePoints": false,
"useStandardizedQueries": true,
"advancedQueryCapabilities": {
"useStandardizedQueries": true,
"supportsStatistics": false,
"supportsOrderBy": false,
"supportsDistinct": false,
"supportsPagination": false
},
"spatialReference": {
"wkid": 2193,
"latestWkid": 2193
}
}