{ "currentVersion": 10.81, "serviceDescription": "
Difference between Waitati_Level and ground level (2005 Lidar, supplied by DCC). Synthetic Flood Surface based on the Coastal Hazard extent supplied by Otago Regional Council (DunedinDistrictFloodHazardArea). Please see the following report for full description of method. Minimum Floor Levels for Flood Vulnerable Areas: Proposed Minimum Levels, prepared by GHD for Dunedin City Council, Nov 2014.<\/SPAN><\/P><\/DIV><\/DIV><\/DIV>",
"name": "Public/SecondGenerationPlan_Waitati_Flood_Min_Floor_Level",
"description": " Difference between Waitati_Level and ground level (2005 Lidar, supplied by DCC). Synthetic Flood Surface based on the Coastal Hazard extent supplied by Otago Regional Council (DunedinDistrictFloodHazardArea). Please see the following report for full description of method. Minimum Floor Levels for Flood Vulnerable Areas: Proposed Minimum Levels, prepared by GHD for Dunedin City Council, Nov 2014.<\/SPAN><\/P><\/DIV><\/DIV><\/DIV>",
"extent": {
"xmin": 1409976.7322771633,
"ymin": 4929397.2457,
"xmax": 1412621.7322771633,
"ymax": 4931527.2457,
"spatialReference": {
"wkid": 2193,
"latestWkid": 2193
}
},
"initialExtent": {
"xmin": 1409976.7322771633,
"ymin": 4929397.2457,
"xmax": 1412621.7322771633,
"ymax": 4931527.2457,
"spatialReference": {
"wkid": 2193,
"latestWkid": 2193
}
},
"fullExtent": {
"xmin": 1409976.7322771633,
"ymin": 4929397.2457,
"xmax": 1412621.7322771633,
"ymax": 4931527.2457,
"spatialReference": {
"wkid": 2193,
"latestWkid": 2193
}
},
"pixelSizeX": 1,
"pixelSizeY": 1,
"bandCount": 1,
"pixelType": "F32",
"minPixelSize": 0,
"maxPixelSize": 0,
"copyrightText": "",
"serviceDataType": "esriImageServiceDataTypeGeneric",
"minValues": [
0.4999980926513672
],
"maxValues": [
3.643754005432129
],
"meanValues": [
0.9581189721157216
],
"stdvValues": [
0.7925078543040369
],
"objectIdField": "",
"fields": [],
"capabilities": "Image,Metadata,Mensuration",
"defaultMosaicMethod": "Center",
"allowedMosaicMethods": "",
"sortField": "",
"sortValue": null,
"sortAscending": true,
"mosaicOperator": "First",
"defaultCompressionQuality": 75,
"defaultResamplingMethod": "Bilinear",
"maxImageHeight": 4100,
"maxImageWidth": 15000,
"allowRasterFunction": true,
"rasterFunctionInfos": [
{
"name": "None",
"description": "",
"help": ""
}
],
"rasterTypeInfos": [
{
"name": "Raster Dataset",
"description": "Supports all ArcGIS Raster Datasets",
"help": ""
}
],
"mensurationCapabilities": "Basic",
"hasHistograms": true,
"hasColormap": false,
"hasRasterAttributeTable": false,
"minScale": 0,
"maxScale": 0,
"exportTilesAllowed": false,
"hasMultidimensions": false,
"supportsStatistics": false,
"supportsAdvancedQueries": false,
"editFieldsInfo": null,
"ownershipBasedAccessControlForRasters": null,
"allowComputeTiePoints": false,
"useStandardizedQueries": true,
"advancedQueryCapabilities": {
"useStandardizedQueries": true,
"supportsStatistics": false,
"supportsOrderBy": false,
"supportsDistinct": false,
"supportsPagination": false
},
"spatialReference": {
"wkid": 2193,
"latestWkid": 2193
}
}