{ "currentVersion": 10.81, "serviceDescription": "
The raster details urban areas with a slope greater than 6o and with non-southward aspect. This data is derived from the slope and aspect layers generated for the Second Generation Plan (2GP).<\/SPAN><\/P><\/DIV>",
"name": "Public/SlopeAspectUrbanAreaOver6oNonSouthward",
"description": " The raster details urban areas with a slope greater than 6o and with non-southward aspect. This data is derived from the slope and aspect layers generated for the Second Generation Plan (2GP).<\/SPAN><\/P><\/DIV>",
"extent": {
"xmin": 1384482.2189392555,
"ymin": 4905962.47460892,
"xmax": 1426142.2189392555,
"ymax": 4934072.47460892,
"spatialReference": {
"wkid": 2193,
"latestWkid": 2193
}
},
"initialExtent": {
"xmin": 1384482.2189392555,
"ymin": 4905962.47460892,
"xmax": 1426142.2189392555,
"ymax": 4934072.47460892,
"spatialReference": {
"wkid": 2193,
"latestWkid": 2193
}
},
"fullExtent": {
"xmin": 1384482.2189392555,
"ymin": 4905962.47460892,
"xmax": 1426142.2189392555,
"ymax": 4934072.47460892,
"spatialReference": {
"wkid": 2193,
"latestWkid": 2193
}
},
"pixelSizeX": 10,
"pixelSizeY": 10,
"bandCount": 1,
"pixelType": "S32",
"minPixelSize": 0,
"maxPixelSize": 0,
"copyrightText": "Research and Monitoring, City Development",
"serviceDataType": "esriImageServiceDataTypeGeneric",
"minValues": [
7644210
],
"maxValues": [
7644210
],
"meanValues": [
7644210
],
"stdvValues": [
0
],
"objectIdField": "",
"fields": [],
"capabilities": "Image,Metadata,Mensuration",
"defaultMosaicMethod": "Center",
"allowedMosaicMethods": "",
"sortField": "",
"sortValue": null,
"sortAscending": true,
"mosaicOperator": "First",
"defaultCompressionQuality": 75,
"defaultResamplingMethod": "Bilinear",
"maxImageHeight": 4100,
"maxImageWidth": 15000,
"allowRasterFunction": true,
"rasterFunctionInfos": [
{
"name": "None",
"description": "",
"help": ""
}
],
"rasterTypeInfos": [
{
"name": "Raster Dataset",
"description": "Supports all ArcGIS Raster Datasets",
"help": ""
}
],
"mensurationCapabilities": "Basic",
"hasHistograms": true,
"hasColormap": false,
"hasRasterAttributeTable": true,
"minScale": 0,
"maxScale": 0,
"exportTilesAllowed": false,
"hasMultidimensions": false,
"supportsStatistics": false,
"supportsAdvancedQueries": false,
"editFieldsInfo": null,
"ownershipBasedAccessControlForRasters": null,
"allowComputeTiePoints": false,
"useStandardizedQueries": true,
"advancedQueryCapabilities": {
"useStandardizedQueries": true,
"supportsStatistics": false,
"supportsOrderBy": false,
"supportsDistinct": false,
"supportsPagination": false
},
"spatialReference": {
"wkid": 2193,
"latestWkid": 2193
}
}