{
 "currentVersion": 10.81,
 "serviceDescription": "Upper Taieri minimum floor level. Data includes flood level plus 500mm freeboard and is in terms of Otago Metric Datum (Dunedin Vertical Datum 1958 plus 100m).\nData sourced from the report 'Dunedin City Council Minimum Floor Levels for Flood Vulnerable Areas (GHD March 2015)'",
 "name": "Public/Upper_Taieri_Minimum_Floor_Level",
 "description": "Upper Taieri minimum floor level. Data includes flood level plus 500mm freeboard and is in terms of Otago Metric Datum (Dunedin Vertical Datum 1958 plus 100m).\nData sourced from the report 'Dunedin City Council Minimum Floor Levels for Flood Vulnerable Areas (GHD March 2015)'",
 "extent": {
  "xmin": 1390881.9717407,
  "ymin": 4913840.3383179,
  "xmax": 1398561.9717407,
  "ymax": 4920565.3383179,
  "spatialReference": {
   "wkid": 2193,
   "latestWkid": 2193
  }
 },
 "initialExtent": {
  "xmin": 1390881.9717407,
  "ymin": 4913840.3383179,
  "xmax": 1398561.9717407,
  "ymax": 4920565.3383179,
  "spatialReference": {
   "wkid": 2193,
   "latestWkid": 2193
  }
 },
 "fullExtent": {
  "xmin": 1390881.9717407,
  "ymin": 4913840.3383179,
  "xmax": 1398561.9717407,
  "ymax": 4920565.3383179,
  "spatialReference": {
   "wkid": 2193,
   "latestWkid": 2193
  }
 },
 "pixelSizeX": 5,
 "pixelSizeY": 5,
 "bandCount": 1,
 "pixelType": "F32",
 "minPixelSize": 0,
 "maxPixelSize": 0,
 "copyrightText": "GHD, DCC",
 "serviceDataType": "esriImageServiceDataTypeGeneric",
 "minValues": [
  110.0999984741211
 ],
 "maxValues": [
  148.60000610351562
 ],
 "meanValues": [
  123.77628920155111
 ],
 "stdvValues": [
  6.899881146474012
 ],
 "objectIdField": "",
 "fields": [],
 "capabilities": "Image,Metadata,Mensuration",
 "defaultMosaicMethod": "Center",
 "allowedMosaicMethods": "",
 "sortField": "",
 "sortValue": null,
 "sortAscending": true,
 "mosaicOperator": "First",
 "defaultCompressionQuality": 75,
 "defaultResamplingMethod": "Bilinear",
 "maxImageHeight": 4100,
 "maxImageWidth": 15000,
 "allowRasterFunction": true,
 "rasterFunctionInfos": [
  {
   "name": "None",
   "description": "",
   "help": ""
  }
 ],
 "rasterTypeInfos": [
  {
   "name": "Raster Dataset",
   "description": "Supports all ArcGIS Raster Datasets",
   "help": ""
  }
 ],
 "mensurationCapabilities": "Basic",
 "hasHistograms": true,
 "hasColormap": false,
 "hasRasterAttributeTable": false,
 "minScale": 0,
 "maxScale": 0,
 "exportTilesAllowed": false,
 "hasMultidimensions": false,
 "supportsStatistics": false,
 "supportsAdvancedQueries": false,
 "editFieldsInfo": null,
 "ownershipBasedAccessControlForRasters": null,
 "allowComputeTiePoints": false,
 "useStandardizedQueries": true,
 "advancedQueryCapabilities": {
  "useStandardizedQueries": true,
  "supportsStatistics": false,
  "supportsOrderBy": false,
  "supportsDistinct": false,
  "supportsPagination": false
 },
 "spatialReference": {
  "wkid": 2193,
  "latestWkid": 2193
 }
}
