{
 "currentVersion": 10.81,
 "serviceDescription": "Minimum floor levels for the Upper Taieri. Minimum floor level is flood level plus a 500mm freeboard. Data is in terms of New Zealand Vertical Datum 2016 (NZVD2016). \nOriginal data sourced from the GHD report 'Dunedin City Council Minimum Floor Levels for Flood Vulnerable Areas, March 2015'",
 "name": "Public/Upper_Taieri_Minimum_Floor_Level_NZVD2016",
 "description": "Minimum floor levels for the Upper Taieri. Minimum floor level is flood level plus a 500mm freeboard. Data is in terms of New Zealand Vertical Datum 2016 (NZVD2016). \nOriginal data sourced from the GHD report 'Dunedin City Council Minimum Floor Levels for Flood Vulnerable Areas, March 2015'",
 "extent": {
  "xmin": 1390881.9717407,
  "ymin": 4913840.3383179,
  "xmax": 1398561.9717407,
  "ymax": 4920565.3383179,
  "spatialReference": {
   "wkid": 2193,
   "latestWkid": 2193
  }
 },
 "initialExtent": {
  "xmin": 1390881.9717407,
  "ymin": 4913840.3383179,
  "xmax": 1398561.9717407,
  "ymax": 4920565.3383179,
  "spatialReference": {
   "wkid": 2193,
   "latestWkid": 2193
  }
 },
 "fullExtent": {
  "xmin": 1390881.9717407,
  "ymin": 4913840.3383179,
  "xmax": 1398561.9717407,
  "ymax": 4920565.3383179,
  "spatialReference": {
   "wkid": 2193,
   "latestWkid": 2193
  }
 },
 "pixelSizeX": 5,
 "pixelSizeY": 5,
 "bandCount": 1,
 "pixelType": "F32",
 "minPixelSize": 0,
 "maxPixelSize": 0,
 "copyrightText": "",
 "serviceDataType": "esriImageServiceDataTypeGeneric",
 "minValues": [
  9.792057037353516
 ],
 "maxValues": [
  48.28293228149414
 ],
 "meanValues": [
  23.46144578784644
 ],
 "stdvValues": [
  6.8958339474055474
 ],
 "objectIdField": "",
 "fields": [],
 "capabilities": "Mensuration,Image,Metadata",
 "defaultMosaicMethod": "Center",
 "allowedMosaicMethods": "",
 "sortField": "",
 "sortValue": null,
 "sortAscending": true,
 "mosaicOperator": "First",
 "defaultCompressionQuality": 75,
 "defaultResamplingMethod": "Bilinear",
 "maxImageHeight": 4100,
 "maxImageWidth": 15000,
 "allowRasterFunction": true,
 "rasterFunctionInfos": [
  {
   "name": "None",
   "description": "",
   "help": ""
  }
 ],
 "rasterTypeInfos": [
  {
   "name": "Raster Dataset",
   "description": "Supports all ArcGIS Raster Datasets",
   "help": ""
  }
 ],
 "mensurationCapabilities": "Basic",
 "hasHistograms": true,
 "hasColormap": false,
 "hasRasterAttributeTable": false,
 "minScale": 0,
 "maxScale": 0,
 "exportTilesAllowed": false,
 "hasMultidimensions": false,
 "supportsStatistics": false,
 "supportsAdvancedQueries": false,
 "editFieldsInfo": null,
 "ownershipBasedAccessControlForRasters": null,
 "allowComputeTiePoints": false,
 "useStandardizedQueries": true,
 "advancedQueryCapabilities": {
  "useStandardizedQueries": true,
  "supportsStatistics": false,
  "supportsOrderBy": false,
  "supportsDistinct": false,
  "supportsPagination": false
 },
 "spatialReference": {
  "wkid": 2193,
  "latestWkid": 2193
 }
}
