{
 "currentVersion": 10.81,
 "serviceDescription": "Waitati minimum floor level. Data includes flood level plus 500mm freeboard and is in terms of Otago Metric Datum (Dunedin Vertical Datum 1958 plus 100m). Data sourced from the report 'Dunedin City Council Minimum Floor Levels for Flood Vulnerable Areas (GHD March 2015)'",
 "name": "Public/Waitati_Minimum_Floor_Level",
 "description": "Waitati minimum floor level. Data includes flood level plus 500mm freeboard and is in terms of Otago Metric Datum (Dunedin Vertical Datum 1958 plus 100m). Data sourced from the report 'Dunedin City Council Minimum Floor Levels for Flood Vulnerable Areas (GHD March 2015)'",
 "extent": {
  "xmin": 1409976.7322771633,
  "ymin": 4929397.2457,
  "xmax": 1412621.7322771633,
  "ymax": 4931527.2457,
  "spatialReference": {
   "wkid": 2193,
   "latestWkid": 2193
  }
 },
 "initialExtent": {
  "xmin": 1409976.7322771633,
  "ymin": 4929397.2457,
  "xmax": 1412621.7322771633,
  "ymax": 4931527.2457,
  "spatialReference": {
   "wkid": 2193,
   "latestWkid": 2193
  }
 },
 "fullExtent": {
  "xmin": 1409976.7322771633,
  "ymin": 4929397.2457,
  "xmax": 1412621.7322771633,
  "ymax": 4931527.2457,
  "spatialReference": {
   "wkid": 2193,
   "latestWkid": 2193
  }
 },
 "pixelSizeX": 1,
 "pixelSizeY": 1,
 "bandCount": 1,
 "pixelType": "F32",
 "minPixelSize": 0,
 "maxPixelSize": 0,
 "copyrightText": "The data herein has been prepared by GHD for Dunedin City Council (DCC) as a supplement to the report Minimum Floor Levels for Flood Vulnerable Areas: Proposed Minimum Levels, prepared by GHD for Dunedin City Council, Nov 2014and is subject to the purpose and limitations outlined in that report. GHD therefore make no statement as to it being fit for any particular purpose beyond those enumerated in the report.",
 "serviceDataType": "esriImageServiceDataTypeGeneric",
 "minValues": [
  103.80000305175781
 ],
 "maxValues": [
  138.41146850585938
 ],
 "meanValues": [
  108.28108425429119
 ],
 "stdvValues": [
  5.467908014198156
 ],
 "objectIdField": "",
 "fields": [],
 "capabilities": "Image,Metadata,Mensuration",
 "defaultMosaicMethod": "Center",
 "allowedMosaicMethods": "",
 "sortField": "",
 "sortValue": null,
 "sortAscending": true,
 "mosaicOperator": "First",
 "defaultCompressionQuality": 75,
 "defaultResamplingMethod": "Bilinear",
 "maxImageHeight": 4100,
 "maxImageWidth": 15000,
 "allowRasterFunction": true,
 "rasterFunctionInfos": [
  {
   "name": "None",
   "description": "",
   "help": ""
  }
 ],
 "rasterTypeInfos": [
  {
   "name": "Raster Dataset",
   "description": "Supports all ArcGIS Raster Datasets",
   "help": ""
  }
 ],
 "mensurationCapabilities": "Basic",
 "hasHistograms": true,
 "hasColormap": false,
 "hasRasterAttributeTable": false,
 "minScale": 0,
 "maxScale": 0,
 "exportTilesAllowed": false,
 "hasMultidimensions": false,
 "supportsStatistics": false,
 "supportsAdvancedQueries": false,
 "editFieldsInfo": null,
 "ownershipBasedAccessControlForRasters": null,
 "allowComputeTiePoints": false,
 "useStandardizedQueries": true,
 "advancedQueryCapabilities": {
  "useStandardizedQueries": true,
  "supportsStatistics": false,
  "supportsOrderBy": false,
  "supportsDistinct": false,
  "supportsPagination": false
 },
 "spatialReference": {
  "wkid": 2193,
  "latestWkid": 2193
 }
}
