{
 "currentVersion": 10.81,
 "serviceDescription": "The minimum crest level of the railway embankment is approximately 3.0m above mean sea level. Allowing for 300mm depth of flow over the embankment, plus 500mm freeboard results in a minimum floor level of 3.8m above mean sea level to protect against pondage from the embankment. This minimum floor level should be adopted, though it only protects the very low lying areas around Foyle Street and Killarney Street. Given the history of channel avulsion in the area, the higher part of the residentially zoned floodplain (around Harvey Street and Pitt Street) is more likely to be affected by concentrated flows that have overtopped the bank, rather than pondage. Minimum floor levels at least 500mm above the surrounding ground surface should be recommended in this area. - Minimum Floor Levels for Flood Vulnerable Areas, March 2015.",
 "name": "Public/Waitati_Minimum_Floor_Level_NZVD2016",
 "description": "The minimum crest level of the railway embankment is approximately 3.0m above mean sea level. Allowing for 300mm depth of flow over the embankment, plus 500mm freeboard results in a minimum floor level of 3.8m above mean sea level to protect against pondage from the embankment. This minimum floor level should be adopted, though it only protects the very low lying areas around Foyle Street and Killarney Street. Given the history of channel avulsion in the area, the higher part of the residentially zoned floodplain (around Harvey Street and Pitt Street) is more likely to be affected by concentrated flows that have overtopped the bank, rather than pondage. Minimum floor levels at least 500mm above the surrounding ground surface should be recommended in this area. - Minimum Floor Levels for Flood Vulnerable Areas, March 2015.",
 "extent": {
  "xmin": 1409976.7322771633,
  "ymin": 4929397.2457,
  "xmax": 1412621.7322771633,
  "ymax": 4931527.2457,
  "spatialReference": {
   "wkid": 2193,
   "latestWkid": 2193
  }
 },
 "initialExtent": {
  "xmin": 1409976.7322771633,
  "ymin": 4929397.2457,
  "xmax": 1412621.7322771633,
  "ymax": 4931527.2457,
  "spatialReference": {
   "wkid": 2193,
   "latestWkid": 2193
  }
 },
 "fullExtent": {
  "xmin": 1409976.7322771633,
  "ymin": 4929397.2457,
  "xmax": 1412621.7322771633,
  "ymax": 4931527.2457,
  "spatialReference": {
   "wkid": 2193,
   "latestWkid": 2193
  }
 },
 "pixelSizeX": 1,
 "pixelSizeY": 1,
 "bandCount": 1,
 "pixelType": "F32",
 "minPixelSize": 0,
 "maxPixelSize": 0,
 "copyrightText": "The data herein has been prepared by GHD for Dunedin City Council (DCC) as a supplement to the report Minimum Floor Levels for Flood Vulnerable Areas: Proposed Minimum Levels, prepared by GHD for Dunedin City Council, Nov 2014and is subject to the purpose and limitations outlined in that report. GHD therefore make no statement as to it being fit for any particular purpose beyond those enumerated in the report.",
 "serviceDataType": "esriImageServiceDataTypeGeneric",
 "minValues": [
  3.4278600215911865
 ],
 "maxValues": [
  38.04632568359375
 ],
 "meanValues": [
  7.9169560834777615
 ],
 "stdvValues": [
  5.468565309597332
 ],
 "objectIdField": "",
 "fields": [],
 "capabilities": "Image,Metadata,Mensuration",
 "defaultMosaicMethod": "Center",
 "allowedMosaicMethods": "",
 "sortField": "",
 "sortValue": null,
 "sortAscending": true,
 "mosaicOperator": "First",
 "defaultCompressionQuality": 75,
 "defaultResamplingMethod": "Bilinear",
 "maxImageHeight": 4100,
 "maxImageWidth": 15000,
 "allowRasterFunction": true,
 "rasterFunctionInfos": [
  {
   "name": "None",
   "description": "",
   "help": ""
  }
 ],
 "rasterTypeInfos": [
  {
   "name": "Raster Dataset",
   "description": "Supports all ArcGIS Raster Datasets",
   "help": ""
  }
 ],
 "mensurationCapabilities": "Basic",
 "hasHistograms": true,
 "hasColormap": false,
 "hasRasterAttributeTable": false,
 "minScale": 0,
 "maxScale": 0,
 "exportTilesAllowed": false,
 "hasMultidimensions": false,
 "supportsStatistics": false,
 "supportsAdvancedQueries": false,
 "editFieldsInfo": null,
 "ownershipBasedAccessControlForRasters": null,
 "allowComputeTiePoints": false,
 "useStandardizedQueries": true,
 "advancedQueryCapabilities": {
  "useStandardizedQueries": true,
  "supportsStatistics": false,
  "supportsOrderBy": false,
  "supportsDistinct": false,
  "supportsPagination": false
 },
 "spatialReference": {
  "wkid": 2193,
  "latestWkid": 2193
 }
}