View In:
ArcGIS JavaScript
ArcGIS Online Map Viewer
ArcGIS Earth
ArcMap
View Footprint In:
ArcGIS Online Map Viewer
Service Description: Dunedin 1958 to NZVD2016 Conversion
------------------------------------------------------------------------
https://data.linz.govt.nz/layer/53428-dunedin-1958-to-nzvd2016-conversion/
========================================================================
From: Land Information New Zealand
Description:
The DUN58-NZVD2016 grid enables the conversion of normal-orthometric heights
from the Dunedin 1958 local vertical datum to the New Zealand Vertical Datum
2016 (NZVD2016).
The conversion value is represented by the attribute “O”, in metres.
This conversion and NZVD2016 are formally defined in the LINZ standard
[LINZS25009](http://www.linz.govt.nz/regulatory/25009).
DUN58-NZVD2016 is published on a two arc-minute grid (approximately 3.6
kilometres) extending over the benchmarks that nominally define the extent of
the Dunedin 1958 vertical datum (168.4° E to 171.3° E, 43.9° S to 46.5° S).
The height conversion grid models the difference between the Dunedin 1958
vertical datum and NZVD2016 using the LINZ GPS-levelling marks. From the
GPS-levelling marks the expected accuracy of DUN58-NZVD2016 is better than 2
centimetres (95% Confidence interval).
More information on converting heights between vertical datums can be found [on
the LINZ
website](http://www.linz.govt.nz/data/geodetic-services/coordinate-conversion/converting-between-nzvd2016-nzgd2000-and-local-vertical-datums).
Region: New Zealand
Category: Vertical Datum 2016
Projection: NZGD2000 / New Zealand Transverse Mercator 2000
Name: Public/Dunedin58_to_NZVD2016
Description: Dunedin 1958 to NZVD2016 Conversion
------------------------------------------------------------------------
https://data.linz.govt.nz/layer/53428-dunedin-1958-to-nzvd2016-conversion/
========================================================================
From: Land Information New Zealand
Description:
The DUN58-NZVD2016 grid enables the conversion of normal-orthometric heights
from the Dunedin 1958 local vertical datum to the New Zealand Vertical Datum
2016 (NZVD2016).
The conversion value is represented by the attribute “O”, in metres.
This conversion and NZVD2016 are formally defined in the LINZ standard
[LINZS25009](http://www.linz.govt.nz/regulatory/25009).
DUN58-NZVD2016 is published on a two arc-minute grid (approximately 3.6
kilometres) extending over the benchmarks that nominally define the extent of
the Dunedin 1958 vertical datum (168.4° E to 171.3° E, 43.9° S to 46.5° S).
The height conversion grid models the difference between the Dunedin 1958
vertical datum and NZVD2016 using the LINZ GPS-levelling marks. From the
GPS-levelling marks the expected accuracy of DUN58-NZVD2016 is better than 2
centimetres (95% Confidence interval).
More information on converting heights between vertical datums can be found [on
the LINZ
website](http://www.linz.govt.nz/data/geodetic-services/coordinate-conversion/converting-between-nzvd2016-nzgd2000-and-local-vertical-datums).
Region: New Zealand
Category: Vertical Datum 2016
Projection: NZGD2000 / New Zealand Transverse Mercator 2000
Single Fused Map Cache: false
Extent:
XMin: 1229122.3546923427
YMin: 4838207.208438823
XMax: 1470822.3546923427
YMax: 5139707.208438823
Spatial Reference: 2193
(2193)
Initial Extent:
XMin: 1229122.3546923427
YMin: 4838207.208438823
XMax: 1470822.3546923427
YMax: 5139707.208438823
Spatial Reference: 2193
(2193)
Full Extent:
XMin: 1229122.3546923427
YMin: 4838207.208438823
XMax: 1470822.3546923427
YMax: 5139707.208438823
Spatial Reference: 2193
(2193)
Pixel Size X: 100.0
Pixel Size Y: 100.0
Band Count: 1
Pixel Type: F32
RasterFunction Infos: {"rasterFunctionInfos": [{
"name": "None",
"description": "",
"help": ""
}]}
Mensuration Capabilities: Basic
Has Histograms: true
Has Colormap: false
Has Multi Dimensions : false
Rendering Rule:
Min Scale: 0
Max Scale: 0
Copyright Text: LINZ
Service Data Type: esriImageServiceDataTypeGeneric
Min Values: 0.1927882879972458
Max Values: 0.43749237060546875
Mean Values: 0.3180596893952349
Standard Deviation Values: 0.018281892566575544
Object ID Field:
Fields:
None
Default Mosaic Method: Center
Allowed Mosaic Methods:
SortField:
SortValue: null
Mosaic Operator: First
Default Compression Quality: 75
Default Resampling Method: Bilinear
Max Record Count: null
Max Image Height: 4100
Max Image Width: 15000
Max Download Image Count: null
Max Mosaic Image Count: null
Allow Raster Function: true
Allow Copy: null
Allow Analysis: null
Allow Compute TiePoints: false
Supports Statistics: false
Supports Advanced Queries: false
Use StandardizedQueries: true
Raster Type Infos:
Name: Raster Dataset
Description: Supports all ArcGIS Raster Datasets
Help:
Has Raster Attribute Table: false
Edit Fields Info: null
Ownership Based AccessControl For Rasters: null
Child Resources:
Info
Histograms
Key Properties
Legend
Raster Function Infos
Supported Operations:
Export Image
Identify
Measure
Compute Histograms
Compute Statistics Histograms
Get Samples
Compute Class Statistics
Query Boundary
Compute Pixel Location
Validate
Project