View In:
ArcGIS JavaScript
ArcGIS Online Map Viewer
ArcGIS Earth
ArcMap
View Footprint In:
ArcGIS Online Map Viewer
Service Description: Minimum floor levels for the Upper Taieri. Minimum floor level is flood level plus a 500mm freeboard. Data is in terms of Otago Metric Datum (OMD). Original data sourced from the GHD report 'Dunedin City Council Minimum Floor Levels for Flood Vulnerable Areas, March 2015'
Name: Public/Kaikorai_Valley_NEV_Minimum_Floor_Level
Description: Minimum floor levels for the Upper Taieri. Minimum floor level is flood level plus a 500mm freeboard. Data is in terms of Otago Metric Datum (OMD). Original data sourced from the GHD report 'Dunedin City Council Minimum Floor Levels for Flood Vulnerable Areas, March 2015'
Single Fused Map Cache: false
Extent:
XMin: 1397581.3353000004
YMin: 4911062.0527
XMax: 1409261.3353000004
YMax: 4920602.0527
Spatial Reference: 2193
(2193)
Initial Extent:
XMin: 1397581.3353000004
YMin: 4911062.0527
XMax: 1409261.3353000004
YMax: 4920602.0527
Spatial Reference: 2193
(2193)
Full Extent:
XMin: 1397581.3353000004
YMin: 4911062.0527
XMax: 1409261.3353000004
YMax: 4920602.0527
Spatial Reference: 2193
(2193)
Pixel Size X: 20.0
Pixel Size Y: 20.0
Band Count: 1
Pixel Type: F32
RasterFunction Infos: {"rasterFunctionInfos": [{
"name": "None",
"description": "",
"help": ""
}]}
Mensuration Capabilities: Basic
Has Histograms: true
Has Colormap: false
Has Multi Dimensions : false
Rendering Rule:
Min Scale: 0
Max Scale: 0
Copyright Text:
Service Data Type: esriImageServiceDataTypeGeneric
Min Values: 102.0999984741211
Max Values: 241.10000610351562
Mean Values: 129.59813770457575
Standard Deviation Values: 35.81998420481328
Object ID Field:
Fields:
None
Default Mosaic Method: Center
Allowed Mosaic Methods:
SortField:
SortValue: null
Mosaic Operator: First
Default Compression Quality: 75
Default Resampling Method: Bilinear
Max Record Count: null
Max Image Height: 4100
Max Image Width: 15000
Max Download Image Count: null
Max Mosaic Image Count: null
Allow Raster Function: true
Allow Copy: null
Allow Analysis: null
Allow Compute TiePoints: false
Supports Statistics: false
Supports Advanced Queries: false
Use StandardizedQueries: true
Raster Type Infos:
Name: Raster Dataset
Description: Supports all ArcGIS Raster Datasets
Help:
Has Raster Attribute Table: false
Edit Fields Info: null
Ownership Based AccessControl For Rasters: null
Child Resources:
Info
Histograms
Key Properties
Legend
Raster Function Infos
Supported Operations:
Export Image
Identify
Measure
Compute Histograms
Compute Statistics Histograms
Get Samples
Compute Class Statistics
Query Boundary
Compute Pixel Location
Validate
Project