View In:
ArcGIS JavaScript
ArcGIS Online Map Viewer
ArcGIS Earth
ArcMap
View Footprint In:
ArcGIS Online Map Viewer
Service Description: Public/SecondGenerationPlan_Dunedin_Airport
Name: Public/SecondGenerationPlan_Dunedin_Airport
Description:
Single Fused Map Cache: false
Extent:
XMin: 1374098.9556999998
YMin: 4902307.6869
XMax: 1400458.9556999998
YMax: 4924007.6869
Spatial Reference: 2193
(2193)
Initial Extent:
XMin: 1374098.9556999998
YMin: 4902307.6869
XMax: 1400458.9556999998
YMax: 4924007.6869
Spatial Reference: 2193
(2193)
Full Extent:
XMin: 1374098.9556999998
YMin: 4902307.6869
XMax: 1400458.9556999998
YMax: 4924007.6869
Spatial Reference: 2193
(2193)
Pixel Size X: 20.0
Pixel Size Y: 20.0
Band Count: 1
Pixel Type: F32
RasterFunction Infos: {"rasterFunctionInfos": [{
"name": "None",
"description": "",
"help": ""
}]}
Mensuration Capabilities: Basic
Has Histograms: true
Has Colormap: false
Has Multi Dimensions : false
Rendering Rule:
Min Scale: 0
Max Scale: 0
Copyright Text:
Service Data Type: esriImageServiceDataTypeGeneric
Min Values: 0.6000000238418579
Max Values: 324.4964599609375
Mean Values: 122.92344825414213
Standard Deviation Values: 86.35626819047664
Object ID Field:
Fields:
None
Default Mosaic Method: Center
Allowed Mosaic Methods:
SortField:
SortValue: null
Mosaic Operator: First
Default Compression Quality: 75
Default Resampling Method: Bilinear
Max Record Count: null
Max Image Height: 4100
Max Image Width: 15000
Max Download Image Count: null
Max Mosaic Image Count: null
Allow Raster Function: true
Allow Copy: null
Allow Analysis: null
Allow Compute TiePoints: false
Supports Statistics: false
Supports Advanced Queries: false
Use StandardizedQueries: true
Raster Type Infos:
Name: Raster Dataset
Description: Supports all ArcGIS Raster Datasets
Help:
Has Raster Attribute Table: false
Edit Fields Info: null
Ownership Based AccessControl For Rasters: null
Child Resources:
Info
Histograms
Key Properties
Legend
Raster Function Infos
Supported Operations:
Export Image
Identify
Measure
Compute Histograms
Compute Statistics Histograms
Get Samples
Compute Class Statistics
Query Boundary
Compute Pixel Location
Validate
Project