View In:
ArcGIS JavaScript
ArcGIS Online Map Viewer
ArcGIS Earth
ArcMap
View Footprint In:
ArcGIS Online Map Viewer
Service Description: Public/SecondGenerationPlan_Taieri_Aerodrome
Name: Public/SecondGenerationPlan_Taieri_Aerodrome
Description:
Single Fused Map Cache: false
Extent:
XMin: 1393755.4850494266
YMin: 4917127.1724437885
XMax: 1396835.4850494266
YMax: 4919097.1724437885
Spatial Reference: 2193
(2193)
Initial Extent:
XMin: 1393755.4850494266
YMin: 4917127.1724437885
XMax: 1396835.4850494266
YMax: 4919097.1724437885
Spatial Reference: 2193
(2193)
Full Extent:
XMin: 1393755.4850494266
YMin: 4917127.1724437885
XMax: 1396835.4850494266
YMax: 4919097.1724437885
Spatial Reference: 2193
(2193)
Pixel Size X: 5.0
Pixel Size Y: 5.0
Band Count: 1
Pixel Type: F32
RasterFunction Infos: {"rasterFunctionInfos": [{
"name": "None",
"description": "",
"help": ""
}]}
Mensuration Capabilities: Basic
Has Histograms: true
Has Colormap: false
Has Multi Dimensions : false
Rendering Rule:
Min Scale: 0
Max Scale: 0
Copyright Text:
Service Data Type: esriImageServiceDataTypeGeneric
Min Values: 0
Max Values: 59.999969482421875
Mean Values: 30.75377418481865
Standard Deviation Values: 19.31638974718698
Object ID Field:
Fields:
None
Default Mosaic Method: Center
Allowed Mosaic Methods:
SortField:
SortValue: null
Mosaic Operator: First
Default Compression Quality: 75
Default Resampling Method: Bilinear
Max Record Count: null
Max Image Height: 4100
Max Image Width: 15000
Max Download Image Count: null
Max Mosaic Image Count: null
Allow Raster Function: true
Allow Copy: null
Allow Analysis: null
Allow Compute TiePoints: false
Supports Statistics: false
Supports Advanced Queries: false
Use StandardizedQueries: true
Raster Type Infos:
Name: Raster Dataset
Description: Supports all ArcGIS Raster Datasets
Help:
Has Raster Attribute Table: false
Edit Fields Info: null
Ownership Based AccessControl For Rasters: null
Child Resources:
Info
Histograms
Key Properties
Legend
Raster Function Infos
Supported Operations:
Export Image
Identify
Measure
Compute Histograms
Compute Statistics Histograms
Get Samples
Compute Class Statistics
Query Boundary
Compute Pixel Location
Validate
Project