View In:
ArcGIS JavaScript
ArcGIS Online Map Viewer
ArcGIS Earth
ArcMap
View Footprint In:
ArcGIS Online Map Viewer
Service Description: The raster details urban areas with a slope greater than 6o and with southward aspect. This data is derived from the slope and aspect layers generated for the Second Generation Plan (2GP).
Name: Public/SlopeAspectUrbanAreaOver6oSouthwards
Description: The raster details urban areas with a slope greater than 6o and with southward aspect. This data is derived from the slope and aspect layers generated for the Second Generation Plan (2GP).
Single Fused Map Cache: false
Extent:
XMin: 1384496.57189038
YMin: 4905853.647376119
XMax: 1426136.57189038
YMax: 4933923.647376119
Spatial Reference: 2193
(2193)
Initial Extent:
XMin: 1384496.57189038
YMin: 4905853.647376119
XMax: 1426136.57189038
YMax: 4933923.647376119
Spatial Reference: 2193
(2193)
Full Extent:
XMin: 1384496.57189038
YMin: 4905853.647376119
XMax: 1426136.57189038
YMax: 4933923.647376119
Spatial Reference: 2193
(2193)
Pixel Size X: 10.0
Pixel Size Y: 10.0
Band Count: 1
Pixel Type: S32
RasterFunction Infos: {"rasterFunctionInfos": [{
"name": "None",
"description": "",
"help": ""
}]}
Mensuration Capabilities: Basic
Has Histograms: true
Has Colormap: false
Has Multi Dimensions : false
Rendering Rule:
Min Scale: 0
Max Scale: 0
Copyright Text: Research and Monitoring, City Development
Service Data Type: esriImageServiceDataTypeGeneric
Min Values: 6620925
Max Values: 6620925
Mean Values: 6620925
Standard Deviation Values: 0
Object ID Field:
Fields:
None
Default Mosaic Method: Center
Allowed Mosaic Methods:
SortField:
SortValue: null
Mosaic Operator: First
Default Compression Quality: 75
Default Resampling Method: Bilinear
Max Record Count: null
Max Image Height: 4100
Max Image Width: 15000
Max Download Image Count: null
Max Mosaic Image Count: null
Allow Raster Function: true
Allow Copy: null
Allow Analysis: null
Allow Compute TiePoints: false
Supports Statistics: false
Supports Advanced Queries: false
Use StandardizedQueries: true
Raster Type Infos:
Name: Raster Dataset
Description: Supports all ArcGIS Raster Datasets
Help:
Has Raster Attribute Table: true
Edit Fields Info: null
Ownership Based AccessControl For Rasters: null
Child Resources:
Info
Raster Attribute Table
Histograms
Key Properties
Legend
Raster Function Infos
Supported Operations:
Export Image
Identify
Measure
Compute Histograms
Compute Statistics Histograms
Get Samples
Compute Class Statistics
Query Boundary
Compute Pixel Location
Validate
Project