View In:
ArcGIS JavaScript
ArcGIS Online Map Viewer
ArcGIS Earth
ArcMap
View Footprint In:
ArcGIS Online Map Viewer
Service Description: Public/South_Dunedin_LiDAR_2009
Name: Public/South_Dunedin_LiDAR_2009
Description:
Single Fused Map Cache: false
Extent:
XMin: 1404813.000000001
YMin: 4912375.999999999
XMax: 1409276
YMax: 4918379.000000001
Spatial Reference: 2193
(2193)
Initial Extent:
XMin: 1404813.000000001
YMin: 4912375.999999999
XMax: 1409276
YMax: 4918379.000000001
Spatial Reference: 2193
(2193)
Full Extent:
XMin: 1404813.000000001
YMin: 4912375.999999999
XMax: 1409276
YMax: 4918379.000000001
Spatial Reference: 2193
(2193)
Pixel Size X: 0.9999999999997913
Pixel Size Y: 1.0000000000003102
Band Count: 1
Pixel Type: F32
RasterFunction Infos: {"rasterFunctionInfos": [{
"name": "None",
"description": "",
"help": ""
}]}
Mensuration Capabilities: Basic
Has Histograms: true
Has Colormap: false
Has Multi Dimensions : false
Rendering Rule:
Min Scale: 0
Max Scale: 0
Copyright Text:
Service Data Type: esriImageServiceDataTypeGeneric
Min Values: -0.8437660932540894
Max Values: 10.00000286102295
Mean Values: 2.485934550866033
Standard Deviation Values: 2.0135175767855054
Object ID Field:
Fields:
None
Default Mosaic Method: Center
Allowed Mosaic Methods:
SortField:
SortValue: null
Mosaic Operator: First
Default Compression Quality: 75
Default Resampling Method: Bilinear
Max Record Count: null
Max Image Height: 4100
Max Image Width: 15000
Max Download Image Count: null
Max Mosaic Image Count: null
Allow Raster Function: true
Allow Copy: null
Allow Analysis: null
Allow Compute TiePoints: false
Supports Statistics: false
Supports Advanced Queries: false
Use StandardizedQueries: true
Raster Type Infos:
Name: Raster Dataset
Description: Supports all ArcGIS Raster Datasets
Help:
Has Raster Attribute Table: false
Edit Fields Info: null
Ownership Based AccessControl For Rasters: null
Child Resources:
Info
Histograms
Key Properties
Legend
Raster Function Infos
Supported Operations:
Export Image
Identify
Measure
Compute Histograms
Compute Statistics Histograms
Get Samples
Compute Class Statistics
Query Boundary
Compute Pixel Location
Validate
Project