View In:
ArcGIS JavaScript
ArcGIS Online Map Viewer
ArcGIS Earth
ArcMap
View Footprint In:
ArcGIS Online Map Viewer
Service Description: Coastal minimum floor levels - hight above ground. Calculated from a finished floor level of 3.05 - 3.17m NZVD2016 (depending on conversion between NZVD2016 and mean sea level) minus ground level.Both finished floor levels and height above ground calculated using the ORCs June 2021 LiDAR.
hz_minimum_floor_level_2021_aboveground
Name: Public/Coastal_minimum_floor_level_aboveground
Description: Coastal minimum floor levels - hight above ground. Calculated from a finished floor level of 3.05 - 3.17m NZVD2016 (depending on conversion between NZVD2016 and mean sea level) minus ground level.Both finished floor levels and height above ground calculated using the ORCs June 2021 LiDAR.
hz_minimum_floor_level_2021_aboveground
Single Fused Map Cache: false
Extent:
XMin: 1379482.7347124908
YMin: 4896366
XMax: 1425423.7347124908
YMax: 4953563
Spatial Reference: 2193
(2193)
Initial Extent:
XMin: 1379482.7347124908
YMin: 4896366
XMax: 1425423.7347124908
YMax: 4953563
Spatial Reference: 2193
(2193)
Full Extent:
XMin: 1379482.7347124908
YMin: 4896366
XMax: 1425423.7347124908
YMax: 4953563
Spatial Reference: 2193
(2193)
Pixel Size X: 1.0
Pixel Size Y: 1.0
Band Count: 1
Pixel Type: F32
RasterFunction Infos: {"rasterFunctionInfos": [{
"name": "None",
"description": "",
"help": ""
}]}
Mensuration Capabilities: Basic
Has Histograms: true
Has Colormap: false
Has Multi Dimensions : false
Rendering Rule:
Min Scale: 0
Max Scale: 0
Copyright Text:
Service Data Type: esriImageServiceDataTypeGeneric
Min Values: 4.7683716530855236E-8
Max Values: 7.719000339508057
Mean Values: 3.1702037926363107
Standard Deviation Values: 1.2716325023789294
Object ID Field:
Fields:
None
Default Mosaic Method: Center
Allowed Mosaic Methods:
SortField:
SortValue: null
Mosaic Operator: First
Default Compression Quality: 75
Default Resampling Method: Bilinear
Max Record Count: null
Max Image Height: 4100
Max Image Width: 15000
Max Download Image Count: null
Max Mosaic Image Count: null
Allow Raster Function: true
Allow Copy: null
Allow Analysis: null
Allow Compute TiePoints: false
Supports Statistics: false
Supports Advanced Queries: false
Use StandardizedQueries: true
Raster Type Infos:
Name: Raster Dataset
Description: Supports all ArcGIS Raster Datasets
Help:
Has Raster Attribute Table: false
Edit Fields Info: null
Ownership Based AccessControl For Rasters: null
Child Resources:
Info
Histograms
Key Properties
Legend
Raster Function Infos
Supported Operations:
Export Image
Identify
Measure
Compute Histograms
Compute Statistics Histograms
Get Samples
Compute Class Statistics
Query Boundary
Compute Pixel Location
Validate
Project