View In:
ArcGIS JavaScript
ArcGIS Online Map Viewer
ArcGIS Earth
ArcMap
View Footprint In:
ArcGIS Online Map Viewer
Service Description: LiDAR was captured for the Otago Regional Council by AAM Ltd from 25 June to 1 October 2021.
Published from data available at OpenTopography; https://portal.opentopography.org/datasetMetadata?otCollectionID=OT.072022.2193.1
The dataset was generated by AAM and their subcontractors. Data management and distribution is by Toitū Te Whenua Land Information New Zealand.
Name: Public/Dunedin_DEM_2021
Description: LiDAR was captured for the Otago Regional Council by AAM Ltd from 25 June to 1 October 2021.
Published from data available at OpenTopography; https://portal.opentopography.org/datasetMetadata?otCollectionID=OT.072022.2193.1
The dataset was generated by AAM and their subcontractors. Data management and distribution is by Toitū Te Whenua Land Information New Zealand.
Single Fused Map Cache: false
Extent:
XMin: 1345900
YMin: 4896266
XMax: 1425526
YMax: 4988021
Spatial Reference: 2193
(2193)
VCSWkid(7839)
LatestVCSWkid(7839)
Initial Extent:
XMin: 1345900
YMin: 4896266
XMax: 1425526
YMax: 4988021
Spatial Reference: 2193
(2193)
VCSWkid(7839)
LatestVCSWkid(7839)
Full Extent:
XMin: 1345900
YMin: 4896266
XMax: 1425526
YMax: 4988021
Spatial Reference: 2193
(2193)
VCSWkid(7839)
LatestVCSWkid(7839)
Pixel Size X: 1.0
Pixel Size Y: 1.0
Band Count: 1
Pixel Type: F32
RasterFunction Infos: {"rasterFunctionInfos": [{
"name": "None",
"description": "",
"help": ""
}]}
Mensuration Capabilities: Basic
Has Histograms: true
Has Colormap: false
Has Multi Dimensions : false
Rendering Rule:
Min Scale: 0
Max Scale: 0
Copyright Text: Otago Regional Council, Land Information New Zealand (LINZ) (2022). Coastal Catchments, Otago, New Zealand 2021. Collected by AAM, distributed by OpenTopography and LINZ. https://doi.org/10.5069/G9Q52MT4.
Service Data Type: esriImageServiceDataTypeGeneric
Min Values: -31.972999572753906
Max Values: 869.9719848632812
Mean Values: 163.94099794869834
Standard Deviation Values: 169.41133350360113
Object ID Field:
Fields:
None
Default Mosaic Method: Center
Allowed Mosaic Methods:
SortField:
SortValue: null
Mosaic Operator: First
Default Compression Quality: 75
Default Resampling Method: Bilinear
Max Record Count: null
Max Image Height: 4100
Max Image Width: 15000
Max Download Image Count: null
Max Mosaic Image Count: null
Allow Raster Function: true
Allow Copy: null
Allow Analysis: null
Allow Compute TiePoints: false
Supports Statistics: false
Supports Advanced Queries: false
Use StandardizedQueries: true
Raster Type Infos:
Name: Raster Dataset
Description: Supports all ArcGIS Raster Datasets
Help:
Has Raster Attribute Table: false
Edit Fields Info: null
Ownership Based AccessControl For Rasters: null
Child Resources:
Info
Histograms
Key Properties
Legend
Raster Function Infos
Supported Operations:
Export Image
Identify
Measure
Compute Histograms
Compute Statistics Histograms
Get Samples
Compute Class Statistics
Query Boundary
Compute Pixel Location
Validate
Project