View In:
ArcGIS JavaScript
ArcGIS Online Map Viewer
ArcGIS Earth
ArcMap
View Footprint In:
ArcGIS Online Map Viewer
Service Description: DTM built from September 2009 LiDAR. LiDAR has a stated accuracy of +/- 0.15m
Name: Public/LiDAR_Urban2009_DEM
Description: DTM built from September 2009 LiDAR. LiDAR has a stated accuracy of +/- 0.15m
Single Fused Map Cache: false
Extent:
XMin: 1396356
YMin: 4910112
XMax: 1411340
YMax: 4921540
Spatial Reference: 2193
(2193)
Initial Extent:
XMin: 1396356
YMin: 4910112
XMax: 1411340
YMax: 4921540
Spatial Reference: 2193
(2193)
Full Extent:
XMin: 1396356
YMin: 4910112
XMax: 1411340
YMax: 4921540
Spatial Reference: 2193
(2193)
Pixel Size X: 1.0
Pixel Size Y: 1.0
Band Count: 1
Pixel Type: F32
RasterFunction Infos: {"rasterFunctionInfos": [{
"name": "None",
"description": "",
"help": ""
}]}
Mensuration Capabilities: Basic
Has Histograms: true
Has Colormap: false
Has Multi Dimensions : false
Rendering Rule:
Min Scale: 0
Max Scale: 0
Copyright Text:
Service Data Type: esriImageServiceDataTypeGeneric
Min Values: -39.00231170654297
Max Values: 407.84381103515625
Mean Values: 92.69992310024526
Standard Deviation Values: 87.91516081939542
Object ID Field:
Fields:
None
Default Mosaic Method: Center
Allowed Mosaic Methods:
SortField:
SortValue: null
Mosaic Operator: First
Default Compression Quality: 75
Default Resampling Method: Bilinear
Max Record Count: null
Max Image Height: 4100
Max Image Width: 15000
Max Download Image Count: null
Max Mosaic Image Count: null
Allow Raster Function: true
Allow Copy: null
Allow Analysis: null
Allow Compute TiePoints: false
Supports Statistics: false
Supports Advanced Queries: false
Use StandardizedQueries: true
Raster Type Infos:
Name: Raster Dataset
Description: Supports all ArcGIS Raster Datasets
Help:
Has Raster Attribute Table: false
Edit Fields Info: null
Ownership Based AccessControl For Rasters: null
Child Resources:
Info
Histograms
Key Properties
Legend
Raster Function Infos
Supported Operations:
Export Image
Identify
Measure
Compute Histograms
Compute Statistics Histograms
Get Samples
Compute Class Statistics
Query Boundary
Compute Pixel Location
Validate
Project