View In:
ArcGIS JavaScript
ArcGIS Online Map Viewer
ArcGIS Earth
ArcMap
View Footprint In:
ArcGIS Online Map Viewer
Service Description: This layer is representation of the permeable and impermeable surfaces within the main Dunedin Urban area and Mosgiel. An impermeable surface is a surface through which water cannot pass and that sheds water, the opposite is true for a permeable surface. The latest aerial imagery of Dunedin City was used to categorise the urban land cover into two classes: land covered by vegetation, which was considered permeable and land not covered by vegetation, which was considered impermeable. This was done using a tool in a Geographic Information System (GIS) that allows aerial photographs to be classified into different categories depending on the combination of the red, green, blue and near-infrared wavelengths that are reflected by an object. While many structures in an urban landscape will reflect different combinations of red, green, and blue light, healthy vegetation will also reflect near-infrared light which, while invisible to humans, is visible to the cameras used for aerial photography.
Aerial photography captured 2018-2019.
Name: Public/Permeability
Description: This layer is representation of the permeable and impermeable surfaces within the main Dunedin Urban area and Mosgiel. An impermeable surface is a surface through which water cannot pass and that sheds water, the opposite is true for a permeable surface. The latest aerial imagery of Dunedin City was used to categorise the urban land cover into two classes: land covered by vegetation, which was considered permeable and land not covered by vegetation, which was considered impermeable. This was done using a tool in a Geographic Information System (GIS) that allows aerial photographs to be classified into different categories depending on the combination of the red, green, blue and near-infrared wavelengths that are reflected by an object. While many structures in an urban landscape will reflect different combinations of red, green, and blue light, healthy vegetation will also reflect near-infrared light which, while invisible to humans, is visible to the cameras used for aerial photography.
Aerial photography captured 2018-2019.
Single Fused Map Cache: false
Extent:
XMin: 1390860.6999678682
YMin: 4907002.299954843
XMax: 1417173.3999678683
YMax: 4926282.599954843
Spatial Reference: 2193
(2193)
Initial Extent:
XMin: 1390860.6999678682
YMin: 4907002.299954843
XMax: 1417173.3999678683
YMax: 4926282.599954843
Spatial Reference: 2193
(2193)
Full Extent:
XMin: 1390860.6999678682
YMin: 4907002.299954843
XMax: 1417173.3999678683
YMax: 4926282.599954843
Spatial Reference: 2193
(2193)
Pixel Size X: 0.10000000000000071
Pixel Size Y: 0.09999999999999903
Band Count: 1
Pixel Type: S8
RasterFunction Infos: {"rasterFunctionInfos": [{
"name": "None",
"description": "",
"help": ""
}]}
Mensuration Capabilities: Basic
Has Histograms: true
Has Colormap: false
Has Multi Dimensions : false
Rendering Rule:
Min Scale: 0
Max Scale: 0
Copyright Text:
Service Data Type: esriImageServiceDataTypeGeneric
Min Values: 0
Max Values: 1
Mean Values: 0.8427155069658802
Standard Deviation Values: 0.36406878648765306
Object ID Field:
Fields:
None
Default Mosaic Method: Center
Allowed Mosaic Methods:
SortField:
SortValue: null
Mosaic Operator: First
Default Compression Quality: 75
Default Resampling Method: Bilinear
Max Record Count: null
Max Image Height: 4100
Max Image Width: 15000
Max Download Image Count: null
Max Mosaic Image Count: null
Allow Raster Function: true
Allow Copy: null
Allow Analysis: null
Allow Compute TiePoints: false
Supports Statistics: false
Supports Advanced Queries: false
Use StandardizedQueries: true
Raster Type Infos:
Name: Raster Dataset
Description: Supports all ArcGIS Raster Datasets
Help:
Has Raster Attribute Table: true
Edit Fields Info: null
Ownership Based AccessControl For Rasters: null
Child Resources:
Info
Raster Attribute Table
Histograms
Key Properties
Legend
Raster Function Infos
Supported Operations:
Export Image
Identify
Measure
Compute Histograms
Compute Statistics Histograms
Get Samples
Compute Class Statistics
Query Boundary
Compute Pixel Location
Validate
Project