View In:
ArcGIS JavaScript
ArcGIS Online Map Viewer
ArcGIS Earth
ArcMap
View Footprint In:
ArcGIS Online Map Viewer
Service Description: Difference between Waitati_Level and ground level (2005 Lidar, supplied by DCC). Synthetic Flood Surface based on the Coastal Hazard extent supplied by Otago Regional Council (DunedinDistrictFloodHazardArea). Please see the following report for full description of method. Minimum Floor Levels for Flood Vulnerable Areas: Proposed Minimum Levels, prepared by GHD for Dunedin City Council, Nov 2014.
Name: Public/SecondGenerationPlan_Waitati_Flood_Min_Floor_Level
Description: Difference between Waitati_Level and ground level (2005 Lidar, supplied by DCC). Synthetic Flood Surface based on the Coastal Hazard extent supplied by Otago Regional Council (DunedinDistrictFloodHazardArea). Please see the following report for full description of method. Minimum Floor Levels for Flood Vulnerable Areas: Proposed Minimum Levels, prepared by GHD for Dunedin City Council, Nov 2014.
Single Fused Map Cache: false
Extent:
XMin: 1409976.7322771633
YMin: 4929397.2457
XMax: 1412621.7322771633
YMax: 4931527.2457
Spatial Reference: 2193
(2193)
Initial Extent:
XMin: 1409976.7322771633
YMin: 4929397.2457
XMax: 1412621.7322771633
YMax: 4931527.2457
Spatial Reference: 2193
(2193)
Full Extent:
XMin: 1409976.7322771633
YMin: 4929397.2457
XMax: 1412621.7322771633
YMax: 4931527.2457
Spatial Reference: 2193
(2193)
Pixel Size X: 1.0
Pixel Size Y: 1.0
Band Count: 1
Pixel Type: F32
RasterFunction Infos: {"rasterFunctionInfos": [{
"name": "None",
"description": "",
"help": ""
}]}
Mensuration Capabilities: Basic
Has Histograms: true
Has Colormap: false
Has Multi Dimensions : false
Rendering Rule:
Min Scale: 0
Max Scale: 0
Copyright Text:
Service Data Type: esriImageServiceDataTypeGeneric
Min Values: 0.4999980926513672
Max Values: 3.643754005432129
Mean Values: 0.9581189721157216
Standard Deviation Values: 0.7925078543040369
Object ID Field:
Fields:
None
Default Mosaic Method: Center
Allowed Mosaic Methods:
SortField:
SortValue: null
Mosaic Operator: First
Default Compression Quality: 75
Default Resampling Method: Bilinear
Max Record Count: null
Max Image Height: 4100
Max Image Width: 15000
Max Download Image Count: null
Max Mosaic Image Count: null
Allow Raster Function: true
Allow Copy: null
Allow Analysis: null
Allow Compute TiePoints: false
Supports Statistics: false
Supports Advanced Queries: false
Use StandardizedQueries: true
Raster Type Infos:
Name: Raster Dataset
Description: Supports all ArcGIS Raster Datasets
Help:
Has Raster Attribute Table: false
Edit Fields Info: null
Ownership Based AccessControl For Rasters: null
Child Resources:
Info
Histograms
Key Properties
Legend
Raster Function Infos
Supported Operations:
Export Image
Identify
Measure
Compute Histograms
Compute Statistics Histograms
Get Samples
Compute Class Statistics
Query Boundary
Compute Pixel Location
Validate
Project