View In:
ArcGIS JavaScript
ArcGIS Online Map Viewer
ArcGIS Earth
ArcMap
View Footprint In:
ArcGIS Online Map Viewer
Service Description: Upper Taieri minimum floor level. Data includes flood level plus 500mm freeboard and is in terms of Otago Metric Datum (Dunedin Vertical Datum 1958 plus 100m).
Data sourced from the report 'Dunedin City Council Minimum Floor Levels for Flood Vulnerable Areas (GHD March 2015)'
Name: Public/Upper_Taieri_Minimum_Floor_Level
Description: Upper Taieri minimum floor level. Data includes flood level plus 500mm freeboard and is in terms of Otago Metric Datum (Dunedin Vertical Datum 1958 plus 100m).
Data sourced from the report 'Dunedin City Council Minimum Floor Levels for Flood Vulnerable Areas (GHD March 2015)'
Single Fused Map Cache: false
Extent:
XMin: 1390881.9717407
YMin: 4913840.3383179
XMax: 1398561.9717407
YMax: 4920565.3383179
Spatial Reference: 2193
(2193)
Initial Extent:
XMin: 1390881.9717407
YMin: 4913840.3383179
XMax: 1398561.9717407
YMax: 4920565.3383179
Spatial Reference: 2193
(2193)
Full Extent:
XMin: 1390881.9717407
YMin: 4913840.3383179
XMax: 1398561.9717407
YMax: 4920565.3383179
Spatial Reference: 2193
(2193)
Pixel Size X: 5.0
Pixel Size Y: 5.0
Band Count: 1
Pixel Type: F32
RasterFunction Infos: {"rasterFunctionInfos": [{
"name": "None",
"description": "",
"help": ""
}]}
Mensuration Capabilities: Basic
Has Histograms: true
Has Colormap: false
Has Multi Dimensions : false
Rendering Rule:
Min Scale: 0
Max Scale: 0
Copyright Text: GHD, DCC
Service Data Type: esriImageServiceDataTypeGeneric
Min Values: 110.0999984741211
Max Values: 148.60000610351562
Mean Values: 123.77628920155111
Standard Deviation Values: 6.899881146474012
Object ID Field:
Fields:
None
Default Mosaic Method: Center
Allowed Mosaic Methods:
SortField:
SortValue: null
Mosaic Operator: First
Default Compression Quality: 75
Default Resampling Method: Bilinear
Max Record Count: null
Max Image Height: 4100
Max Image Width: 15000
Max Download Image Count: null
Max Mosaic Image Count: null
Allow Raster Function: true
Allow Copy: null
Allow Analysis: null
Allow Compute TiePoints: false
Supports Statistics: false
Supports Advanced Queries: false
Use StandardizedQueries: true
Raster Type Infos:
Name: Raster Dataset
Description: Supports all ArcGIS Raster Datasets
Help:
Has Raster Attribute Table: false
Edit Fields Info: null
Ownership Based AccessControl For Rasters: null
Child Resources:
Info
Histograms
Key Properties
Legend
Raster Function Infos
Supported Operations:
Export Image
Identify
Measure
Compute Histograms
Compute Statistics Histograms
Get Samples
Compute Class Statistics
Query Boundary
Compute Pixel Location
Validate
Project