View In:
ArcGIS JavaScript
ArcGIS Online Map Viewer
ArcGIS Earth
ArcMap
View Footprint In:
ArcGIS Online Map Viewer
Service Description: The minimum crest level of the railway embankment is approximately 3.0m above mean sea level. Allowing for 300mm depth of flow over the embankment, plus 500mm freeboard results in a minimum floor level of 3.8m above mean sea level to protect against pondage from the embankment. This minimum floor level should be adopted, though it only protects the very low lying areas around Foyle Street and Killarney Street. Given the history of channel avulsion in the area, the higher part of the residentially zoned floodplain (around Harvey Street and Pitt Street) is more likely to be affected by concentrated flows that have overtopped the bank, rather than pondage. Minimum floor levels at least 500mm above the surrounding ground surface should be recommended in this area. - Minimum Floor Levels for Flood Vulnerable Areas, March 2015.
Name: Public/Waitati_Minimum_Floor_Level_NZVD2016
Description: The minimum crest level of the railway embankment is approximately 3.0m above mean sea level. Allowing for 300mm depth of flow over the embankment, plus 500mm freeboard results in a minimum floor level of 3.8m above mean sea level to protect against pondage from the embankment. This minimum floor level should be adopted, though it only protects the very low lying areas around Foyle Street and Killarney Street. Given the history of channel avulsion in the area, the higher part of the residentially zoned floodplain (around Harvey Street and Pitt Street) is more likely to be affected by concentrated flows that have overtopped the bank, rather than pondage. Minimum floor levels at least 500mm above the surrounding ground surface should be recommended in this area. - Minimum Floor Levels for Flood Vulnerable Areas, March 2015.
Single Fused Map Cache: false
Extent:
XMin: 1409976.7322771633
YMin: 4929397.2457
XMax: 1412621.7322771633
YMax: 4931527.2457
Spatial Reference: 2193
(2193)
Initial Extent:
XMin: 1409976.7322771633
YMin: 4929397.2457
XMax: 1412621.7322771633
YMax: 4931527.2457
Spatial Reference: 2193
(2193)
Full Extent:
XMin: 1409976.7322771633
YMin: 4929397.2457
XMax: 1412621.7322771633
YMax: 4931527.2457
Spatial Reference: 2193
(2193)
Pixel Size X: 1.0
Pixel Size Y: 1.0
Band Count: 1
Pixel Type: F32
RasterFunction Infos: {"rasterFunctionInfos": [{
"name": "None",
"description": "",
"help": ""
}]}
Mensuration Capabilities: Basic
Has Histograms: true
Has Colormap: false
Has Multi Dimensions : false
Rendering Rule:
Min Scale: 0
Max Scale: 0
Copyright Text: The data herein has been prepared by GHD for Dunedin City Council (DCC) as a supplement to the report Minimum Floor Levels for Flood Vulnerable Areas: Proposed Minimum Levels, prepared by GHD for Dunedin City Council, Nov 2014and is subject to the purpose and limitations outlined in that report. GHD therefore make no statement as to it being fit for any particular purpose beyond those enumerated in the report.
Service Data Type: esriImageServiceDataTypeGeneric
Min Values: 3.4278600215911865
Max Values: 38.04632568359375
Mean Values: 7.9169560834777615
Standard Deviation Values: 5.468565309597332
Object ID Field:
Fields:
None
Default Mosaic Method: Center
Allowed Mosaic Methods:
SortField:
SortValue: null
Mosaic Operator: First
Default Compression Quality: 75
Default Resampling Method: Bilinear
Max Record Count: null
Max Image Height: 4100
Max Image Width: 15000
Max Download Image Count: null
Max Mosaic Image Count: null
Allow Raster Function: true
Allow Copy: null
Allow Analysis: null
Allow Compute TiePoints: false
Supports Statistics: false
Supports Advanced Queries: false
Use StandardizedQueries: true
Raster Type Infos:
Name: Raster Dataset
Description: Supports all ArcGIS Raster Datasets
Help:
Has Raster Attribute Table: false
Edit Fields Info: null
Ownership Based AccessControl For Rasters: null
Child Resources:
Info
Histograms
Key Properties
Legend
Raster Function Infos
Supported Operations:
Export Image
Identify
Measure
Compute Histograms
Compute Statistics Histograms
Get Samples
Compute Class Statistics
Query Boundary
Compute Pixel Location
Validate
Project